View In:
ArcGIS JavaScript
ArcGIS Online Map Viewer
ArcGIS Earth
Service Description: DRONES/IMAGENES_DSM_OEFA_IMG_PENDIENTE
Name: DRONES/IMAGENES_DSM_OEFA_IMG_PENDIENTE
Description:
Single Fused Map Cache: false
Extent:
XMin: -77.12916399199997
YMin: -17.068540323000008
XMax: -70.54502975199998
YMax: -11.926310811000008
Spatial Reference: 4326
(4326)
LatestVCSWkid(0)
Initial Extent:
XMin: -77.12916399199997
YMin: -17.068540323000008
XMax: -70.54502975199998
YMax: -11.926310811000008
Spatial Reference: 4326
(4326)
LatestVCSWkid(0)
Full Extent:
XMin: -77.12916399199997
YMin: -17.068540323000008
XMax: -70.54502975199998
YMax: -11.926310811000008
Spatial Reference: 4326
(4326)
LatestVCSWkid(0)
Pixel Size X: 3.2799999999999987E-7
Pixel Size Y: 3.28E-7
Band Count: 1
Pixel Type: F32
RasterFunction Infos: {"rasterFunctionInfos": [{
"name": "None",
"description": "A No-Op Function.",
"help": ""
}]}
Mensuration Capabilities: Basic
Inspection Capabilities:
Has Histograms: true
Has Colormap: false
Has Multi Dimensions : false
Rendering Rule:
Min Scale: 0
Max Scale: 0
Resampling: false
Copyright Text:
Service Data Type: esriImageServiceDataTypeGeneric
Min Values: 0.17364078760147095
Max Values: 89.37808558344841
Mean Values: 19.074462858453177
Standard Deviation Values: 14.957926081620535
Object ID Field: OBJECTID
Fields:
-
OBJECTID
(
type: esriFieldTypeOID, alias: OBJECTID
)
-
NAME
(
type: esriFieldTypeString, alias: NAME, length: 200
)
-
MINPS
(
type: esriFieldTypeDouble, alias: MINPS
)
-
MAXPS
(
type: esriFieldTypeDouble, alias: MAXPS
)
-
LOWPS
(
type: esriFieldTypeDouble, alias: LOWPS
)
-
HIGHPS
(
type: esriFieldTypeDouble, alias: HIGHPS
)
-
CATEGORY
(
type: esriFieldTypeInteger, alias: CATEGORY
, Coded Values:
[0: Unknown]
, [1: Primary]
, [2: Overview]
, ...6 more...
)
-
TAG
(
type: esriFieldTypeString, alias: TAG, length: 100
)
-
GROUPNAME
(
type: esriFieldTypeString, alias: GROUPNAME, length: 100
)
-
PRODUCTNAME
(
type: esriFieldTypeString, alias: PRODUCTNAME, length: 100
)
-
CENTERX
(
type: esriFieldTypeDouble, alias: CENTERX
)
-
CENTERY
(
type: esriFieldTypeDouble, alias: CENTERY
)
-
ZORDER
(
type: esriFieldTypeInteger, alias: ZORDER
)
-
SHAPE
(
type: esriFieldTypeGeometry, alias: SHAPE
)
-
ID_PENDIENTES
(
type: esriFieldTypeDouble, alias: ID_PENDIENTES
)
-
ID_FOTOGRAMETRIA_RESUL
(
type: esriFieldTypeDouble, alias: ID_FOTOGRAMETRIA_RESUL
)
-
TX_DESCRIPCION
(
type: esriFieldTypeString, alias: TX_DESCRIPCION, length: 255
)
-
PIXEL
(
type: esriFieldTypeSingle, alias: PIXEL
)
-
FG_SITREG
(
type: esriFieldTypeDouble, alias: FG_SITREG
)
-
SHAPE.AREA
(
type: esriFieldTypeDouble, alias: SHAPE.AREA
)
-
SHAPE.LEN
(
type: esriFieldTypeDouble, alias: SHAPE.LEN
)
Default Mosaic Method: Northwest
Allowed Mosaic Methods: NorthWest,Center,LockRaster,ByAttribute,Nadir,Viewpoint,Seamline,None
SortField:
SortValue: null
Mosaic Operator: First
Default Compression Quality: 75
Default Resampling Method: Bilinear
Max Record Count: 1000
Max Image Height: 4100
Max Image Width: 15000
Max Download Image Count: 20
Max Mosaic Image Count: 500
Allow Raster Function: true
Allow Copy: true
Allow Analysis: true
Allow Compute TiePoints: false
Supports Statistics: true
Supports Advanced Queries: true
Use StandardizedQueries: true
Raster Type Infos:
Name: Raster Dataset
Description: Supports all ArcGIS Raster Datasets
Help:
Has Raster Attribute Table: false
Edit Fields Info: null
Ownership Based AccessControl For Rasters: null
Child Resources:
Info
Histograms
Statistics
Key Properties
Legend
Raster Function Infos
Supported Operations:
Export Image
Query
Identify
Measure
Compute Histograms
Compute Statistics Histograms
Get Samples
Compute Class Statistics
Query GPS Info
Find Images
Image to Map
Map to Image
Measure from Image
Image to Map Multiray
Query Boundary
Compute Pixel Location
Compute Angles
Validate
Project