{
 "currentVersion": 11.5,
 "serviceDescription": "DRONES/IMAGENES_DSM_OEFA_IMG_PENDIENTE",
 "serviceItemId": "ee2fd06602a243b0825fc15a1b52f5e7",
 "name": "DRONES/IMAGENES_DSM_OEFA_IMG_PENDIENTE",
 "description": "",
 "extent": {
  "xmin": -77.12916399199997,
  "ymin": -17.068540323000008,
  "xmax": -70.54502975199998,
  "ymax": -11.926310811000008,
  "spatialReference": {
   "wkid": 4326,
   "latestWkid": 4326
  }
 },
 "initialExtent": {
  "xmin": -77.12916399199997,
  "ymin": -17.068540323000008,
  "xmax": -70.54502975199998,
  "ymax": -11.926310811000008,
  "spatialReference": {
   "wkid": 4326,
   "latestWkid": 4326
  }
 },
 "fullExtent": {
  "xmin": -77.12916399199997,
  "ymin": -17.068540323000008,
  "xmax": -70.54502975199998,
  "ymax": -11.926310811000008,
  "spatialReference": {
   "wkid": 4326,
   "latestWkid": 4326
  }
 },
 "sortableFields": "MINPS,MAXPS,LOWPS,HIGHPS,CENTERX,CENTERY,ZORDER,SHAPE.AREA,SHAPE.LEN,ID_PENDIENTES,ID_FOTOGRAMETRIA_RESUL,PIXEL,FG_SITREG",
 "bandCount": 1,
 "pixelType": "F32",
 "minValues": [
  0.17364078760147095
 ],
 "maxValues": [
  89.37808558344841
 ],
 "meanValues": [
  19.074462858453177
 ],
 "stdvValues": [
  14.957926081620535
 ],
 "serviceProperties": "NorthWest<\/MosaicMethod>First<\/MosaicOperator>true<\/SortAscending><\/LockImageID>NAME<\/TileOrderField>0<\/TileOrderBase>600.000000<\/AvgImageSpacingX>300.000000<\/AvgImageSpacingY>0.0<\/ViewPointX>0.0<\/ViewPointY>0.0<\/ViewPointDefShiftX>0.0<\/ViewPointDefShiftY>None<\/CompressionMethod>75<\/CompressionQuality>0.010000<\/CompressionTolerance>Bilinear<\/SamplingMethod><\/ImageServiceProperties><\/ImageServer>",
 "allowedFields": "NAME,MINPS,MAXPS,LOWPS,HIGHPS,TAG,GROUPNAME,PRODUCTNAME,CENTERX,CENTERY,ZORDER,SHAPE.AREA,SHAPE.LEN,ID_PENDIENTES,ID_FOTOGRAMETRIA_RESUL,TX_DESCRIPCION,PIXEL,FG_SITREG",
 "hasMultidimensions": false,
 "pixelSizeX": 3.2799999999999987E-7,
 "pixelSizeY": 3.28E-7,
 "meanPixelSize": 0.03651279298019373,
 "datasetFormat": "AMD",
 "uncompressedSize": 1258816530335280,
 "blockWidth": 2048,
 "blockHeight": 256,
 "compressionType": "None",
 "bandNames": [
  "Band_1"
 ],
 "allowCopy": true,
 "allowAnalysis": true,
 "itemAccess": false,
 "inspectionCapabilities": "",
 "minPixelSize": 0,
 "maxPixelSize": 0,
 "copyrightText": "",
 "serviceDataType": "esriImageServiceDataTypeGeneric",
 "serviceSourceType": "esriImageServiceSourceTypeMosaicDataset",
 "objectIdField": "OBJECTID",
 "fields": [
  {
   "name": "OBJECTID",
   "type": "esriFieldTypeOID",
   "alias": "OBJECTID",
   "domain": null
  },
  {
   "name": "NAME",
   "type": "esriFieldTypeString",
   "alias": "NAME",
   "domain": null,
   "length": 200
  },
  {
   "name": "MINPS",
   "type": "esriFieldTypeDouble",
   "alias": "MINPS",
   "domain": null
  },
  {
   "name": "MAXPS",
   "type": "esriFieldTypeDouble",
   "alias": "MAXPS",
   "domain": null
  },
  {
   "name": "LOWPS",
   "type": "esriFieldTypeDouble",
   "alias": "LOWPS",
   "domain": null
  },
  {
   "name": "HIGHPS",
   "type": "esriFieldTypeDouble",
   "alias": "HIGHPS",
   "domain": null
  },
  {
   "name": "CATEGORY",
   "type": "esriFieldTypeInteger",
   "alias": "CATEGORY",
   "domain": {
    "type": "codedValue",
    "name": "MosaicCatalogItemCategoryDomain",
    "description": "Categorías de elementos del catálogo.",
    "codedValues": [
     {
      "name": "Unknown",
      "code": 0
     },
     {
      "name": "Primary",
      "code": 1
     },
     {
      "name": "Overview",
      "code": 2
     },
     {
      "name": "Unprocessed Overview",
      "code": 3
     },
     {
      "name": "Partial Overview",
      "code": 4
     },
     {
      "name": "Inactive",
      "code": 5
     },
     {
      "name": "Uploaded",
      "code": 253
     },
     {
      "name": "Incomplete",
      "code": 254
     },
     {
      "name": "Custom",
      "code": 255
     }
    ],
    "mergePolicy": "esriMPTDefaultValue",
    "splitPolicy": "esriSPTDefaultValue"
   }
  },
  {
   "name": "TAG",
   "type": "esriFieldTypeString",
   "alias": "TAG",
   "domain": null,
   "length": 100
  },
  {
   "name": "GROUPNAME",
   "type": "esriFieldTypeString",
   "alias": "GROUPNAME",
   "domain": null,
   "length": 100
  },
  {
   "name": "PRODUCTNAME",
   "type": "esriFieldTypeString",
   "alias": "PRODUCTNAME",
   "domain": null,
   "length": 100
  },
  {
   "name": "CENTERX",
   "type": "esriFieldTypeDouble",
   "alias": "CENTERX",
   "domain": null
  },
  {
   "name": "CENTERY",
   "type": "esriFieldTypeDouble",
   "alias": "CENTERY",
   "domain": null
  },
  {
   "name": "ZORDER",
   "type": "esriFieldTypeInteger",
   "alias": "ZORDER",
   "domain": null
  },
  {
   "name": "SHAPE",
   "type": "esriFieldTypeGeometry",
   "alias": "SHAPE",
   "domain": null
  },
  {
   "name": "ID_PENDIENTES",
   "type": "esriFieldTypeDouble",
   "alias": "ID_PENDIENTES",
   "domain": null
  },
  {
   "name": "ID_FOTOGRAMETRIA_RESUL",
   "type": "esriFieldTypeDouble",
   "alias": "ID_FOTOGRAMETRIA_RESUL",
   "domain": null
  },
  {
   "name": "TX_DESCRIPCION",
   "type": "esriFieldTypeString",
   "alias": "TX_DESCRIPCION",
   "domain": null,
   "length": 255
  },
  {
   "name": "PIXEL",
   "type": "esriFieldTypeSingle",
   "alias": "PIXEL",
   "domain": null
  },
  {
   "name": "FG_SITREG",
   "type": "esriFieldTypeDouble",
   "alias": "FG_SITREG",
   "domain": null
  },
  {
   "name": "SHAPE.AREA",
   "type": "esriFieldTypeDouble",
   "alias": "SHAPE.AREA",
   "domain": null
  },
  {
   "name": "SHAPE.LEN",
   "type": "esriFieldTypeDouble",
   "alias": "SHAPE.LEN",
   "domain": null
  }
 ],
 "capabilities": "Catalog,Mensuration,Image,Metadata",
 "defaultMosaicMethod": "Northwest",
 "allowedMosaicMethods": "NorthWest,Center,LockRaster,ByAttribute,Nadir,Viewpoint,Seamline,None",
 "sortField": "",
 "sortValue": null,
 "sortAscending": true,
 "mosaicOperator": "First",
 "maxDownloadSizeLimit": 2048,
 "defaultCompressionQuality": 75,
 "defaultResamplingMethod": "Bilinear",
 "maxImageHeight": 4100,
 "maxImageWidth": 15000,
 "maxRecordCount": 1000,
 "maxDownloadImageCount": 20,
 "maxMosaicImageCount": 500,
 "allowRasterFunction": true,
 "rasterFunctionInfos": [
  {
   "name": "None",
   "description": "A No-Op Function.",
   "help": ""
  }
 ],
 "rasterTypeInfos": [
  {
   "name": "Raster Dataset",
   "description": "Supports all ArcGIS Raster Datasets",
   "help": ""
  }
 ],
 "mensurationCapabilities": "Basic",
 "hasHistograms": true,
 "hasColormap": false,
 "hasRasterAttributeTable": false,
 "minScale": 0,
 "maxScale": 0,
 "exportTilesAllowed": false,
 "supportsStatistics": true,
 "supportsAdvancedQueries": true,
 "editFieldsInfo": null,
 "ownershipBasedAccessControlForRasters": null,
 "allowComputeTiePoints": false,
 "useStandardizedQueries": true,
 "advancedQueryCapabilities": {
  "useStandardizedQueries": true,
  "supportsStatistics": true,
  "supportsOrderBy": true,
  "supportsDistinct": true,
  "supportsPagination": true
 },
 "spatialReference": {
  "wkid": 4326,
  "latestWkid": 4326
 },
 "resampling": false
}
