View In:
ArcGIS JavaScript
ArcGIS Online Map Viewer
ArcGIS Earth
Service Description: DRONES/IMAGENES_DSM_OEFA_IMG_RS_PLANET
Name: DRONES/IMAGENES_DSM_OEFA_IMG_RS_PLANET
Description:
Single Fused Map Cache: false
Extent:
XMin: -81.48883684499998
YMin: -4.611928951999981
XMax: -81.27217364499998
YMax: -4.417870801999982
Spatial Reference: 4326
(4326)
LatestVCSWkid(0)
Initial Extent:
XMin: -81.48883684499998
YMin: -4.611928951999981
XMax: -81.27217364499998
YMax: -4.417870801999982
Spatial Reference: 4326
(4326)
LatestVCSWkid(0)
Full Extent:
XMin: -81.48883684499998
YMin: -4.611928951999981
XMax: -81.27217364499998
YMax: -4.417870801999982
Spatial Reference: 4326
(4326)
LatestVCSWkid(0)
Pixel Size X: 2.697499999999991E-5
Pixel Size Y: 2.6974999999999883E-5
Band Count: 4
Pixel Type: U16
RasterFunction Infos: {"rasterFunctionInfos": [{
"name": "None",
"description": "",
"help": ""
}]}
Mensuration Capabilities: Basic
Inspection Capabilities:
Has Histograms: true
Has Colormap: false
Has Multi Dimensions : false
Rendering Rule:
Min Scale: 0
Max Scale: 0
Copyright Text:
Service Data Type: esriImageServiceDataTypeGeneric
Min Values: 6.55078125, 8.603515625, 9.544921875, 12.185546875
Max Values: 3347.44921875, 4396.396484375, 4877.455078125, 6226.814453125
Mean Values: 422.6302322630498, 484.2185796330911, 430.4621154985105, 425.3124063308424
Standard Deviation Values: 239.71775267945276, 345.734391991518, 406.2359644817404, 538.6338356991795
Object ID Field: OBJECTID
Fields:
-
OBJECTID
(
type: esriFieldTypeOID, alias: OBJECTID
)
-
NAME
(
type: esriFieldTypeString, alias: NAME, length: 200
)
-
MINPS
(
type: esriFieldTypeDouble, alias: MINPS
)
-
MAXPS
(
type: esriFieldTypeDouble, alias: MAXPS
)
-
LOWPS
(
type: esriFieldTypeDouble, alias: LOWPS
)
-
HIGHPS
(
type: esriFieldTypeDouble, alias: HIGHPS
)
-
CATEGORY
(
type: esriFieldTypeInteger, alias: CATEGORY
, Coded Values:
[0: Unknown]
, [1: Primary]
, [2: Overview]
, ...6 more...
)
-
TAG
(
type: esriFieldTypeString, alias: TAG, length: 100
)
-
GROUPNAME
(
type: esriFieldTypeString, alias: GROUPNAME, length: 100
)
-
PRODUCTNAME
(
type: esriFieldTypeString, alias: PRODUCTNAME, length: 100
)
-
CENTERX
(
type: esriFieldTypeDouble, alias: CENTERX
)
-
CENTERY
(
type: esriFieldTypeDouble, alias: CENTERY
)
-
ZORDER
(
type: esriFieldTypeInteger, alias: ZORDER
)
-
SHAPE
(
type: esriFieldTypeGeometry, alias: SHAPE
)
-
FECHA_TOMA
(
type: esriFieldTypeDate, alias: FECHA_TOMA, length: 8
)
-
FUENTE
(
type: esriFieldTypeString, alias: FUENTE, length: 255
)
-
SHAPE.AREA
(
type: esriFieldTypeDouble, alias: SHAPE.AREA
)
-
SHAPE.LEN
(
type: esriFieldTypeDouble, alias: SHAPE.LEN
)
Default Mosaic Method: Northwest
Allowed Mosaic Methods: NorthWest,Center,LockRaster,ByAttribute,Nadir,Viewpoint,Seamline,None
SortField:
SortValue: null
Mosaic Operator: First
Default Compression Quality: 100
Default Resampling Method: Nearest
Max Record Count: 1000
Max Image Height: 4100
Max Image Width: 15000
Max Download Image Count: 20
Max Mosaic Image Count: 500
Allow Raster Function: true
Allow Copy: true
Allow Analysis: true
Allow Compute TiePoints: false
Supports Statistics: true
Supports Advanced Queries: true
Use StandardizedQueries: true
Raster Type Infos:
Name: Raster Dataset
Description: Supports all ArcGIS Raster Datasets
Help:
Has Raster Attribute Table: false
Edit Fields Info: null
Ownership Based AccessControl For Rasters: null
Child Resources:
Info
Histograms
Statistics
Key Properties
Legend
Raster Function Infos
Supported Operations:
Export Image
Query
Identify
Measure
Compute Histograms
Compute Statistics Histograms
Get Samples
Compute Class Statistics
Query GPS Info
Find Images
Image to Map
Map to Image
Measure from Image
Image to Map Multiray
Query Boundary
Compute Pixel Location
Compute Angles
Validate
Project